BEGIN:VCALENDAR
VERSION:2.0
PRODID:Imitheme.com 
BEGIN:VEVENT
UID:20260423T163627207930012
DTSTAMP;TZID=UTC:2026-04-23 16:36:27
DTSTART;TZID=America/Los_Angeles:20260423T163627
DTEND;TZID=America/Los_Angeles:20260423T163627
SUMMARY:“Carpets from Paradise” Hand woven carpets by the women of Artsakh”
LOCATION:AGBU Alex Manoogian Center
DESCRIPTION:Organized by AGBU Hye Geen
URL:https://agbuhyegeen.org/eventer/carpets-from-paradise-hand-woven-carpets-by-the-women-of-artsakh/
END:VEVENT
END:VCALENDAR
