BEGIN:VCALENDAR
VERSION:2.0
PRODID:Imitheme.com 
BEGIN:VEVENT
UID:20260423T175828565666990
DTSTAMP;TZID=UTC:2026-04-23 17:58:28
DTSTART;TZID=America/Los_Angeles:20260423T175828
DTEND;TZID=America/Los_Angeles:20260423T175828
SUMMARY:“Lessons to be learned from Armenian Communities Around the World”
LOCATION:
DESCRIPTION:David Zenian Glendale, CA  – Chevy Chase Golf Club
URL:https://agbuhyegeen.org/eventer/lessons-to-be-learned-from-armenian-communities-around-the-world/
END:VEVENT
END:VCALENDAR
