BEGIN:VCALENDAR
VERSION:2.0
PRODID:Imitheme.com 
BEGIN:VEVENT
UID:20260423T13451184565489
DTSTAMP;TZID=UTC:2026-04-23 13:45:11
DTSTART;TZID=America/Los_Angeles:20260423T134511
DTEND;TZID=America/Los_Angeles:20260423T134511
SUMMARY:Free Legal and Social Services
LOCATION:AGBU Alex Manoogian Center
DESCRIPTION:Launched by the AGBU “Hye Geen Young Circle”
URL:https://agbuhyegeen.org/eventer/free-legal-and-social-services/
END:VEVENT
END:VCALENDAR
