BEGIN:VCALENDAR
VERSION:2.0
PRODID:Imitheme.com 
BEGIN:VEVENT
UID:20260423T121024971031237
DTSTAMP;TZID=UTC:2026-04-23 12:10:24
DTSTART;TZID=America/Los_Angeles:20260423T121024
DTEND;TZID=America/Los_Angeles:20260423T121024
SUMMARY:“With Sossy Bedikian, the Educator” for her students of AGBU Tarouhi Hagopian High School in Beirut, Lebanon
LOCATION:
DESCRIPTION:Glendale, CA – Brandview Collection
URL:https://agbuhyegeen.org/eventer/with-sossy-bedikian-the-educator-for-her-students-of-agbu-tarouhi-hagopian-high-school-in-beirut-lebanon/
END:VEVENT
END:VCALENDAR
