BEGIN:VCALENDAR
VERSION:2.0
PRODID:Imitheme.com 
BEGIN:VEVENT
UID:20260423T222902878802442
DTSTAMP;TZID=UTC:2026-04-23 22:29:02
DTSTART;TZID=America/Los_Angeles:20260423T222902
DTEND;TZID=America/Los_Angeles:20260423T222902
SUMMARY:“From Krikor Zohrab to the Millennium”. Have Armenian women stepped into the new millennium?
LOCATION:AGBU Alex Manoogian Center
DESCRIPTION:Pro: Emma Oshagan Ph.D., Janet Kassouni            Con: Rita Vorperian, Prof. Osheen Keshishian, Ph.D
URL:https://agbuhyegeen.org/eventer/from-krikor-zohrab-to-the-millennium-have-armenian-women-stepped-into-the-new-millennium/
END:VEVENT
END:VCALENDAR
