BEGIN:VCALENDAR
VERSION:2.0
PRODID:Imitheme.com 
BEGIN:VEVENT
UID:20260423T211217776498221
DTSTAMP;TZID=UTC:2026-04-23 21:12:17
DTSTART;TZID=America/Los_Angeles:20260423T211217
DTEND;TZID=America/Los_Angeles:20260423T211217
SUMMARY:Fundraising to establish a “Women’s Center in Yerevan”
LOCATION:
DESCRIPTION:Professor Lyudmila Haroutunyan, Head of Sociology Department at Yerevan State University
URL:https://agbuhyegeen.org/eventer/fundraising-to-establish-a-womens-center-in-yerevan/
END:VEVENT
END:VCALENDAR
