BEGIN:VCALENDAR
VERSION:2.0
PRODID:Imitheme.com 
BEGIN:VEVENT
UID:20260423T192226163926203
DTSTAMP;TZID=UTC:2026-04-23 19:22:26
DTSTART;TZID=America/Los_Angeles:20260423T192226
DTEND;TZID=America/Los_Angeles:20260423T192226
SUMMARY:AGBU Hye Geen sends educator Vartouhi Rose Avakian to Vanatsor to train special education teachers there
LOCATION:Armenia
DESCRIPTION:
URL:https://agbuhyegeen.org/eventer/agbu-hye-geen-sends-educator-vartouhi-rose-avakian-to-vanatsor-to-train-special-education-teachers-there/
END:VEVENT
END:VCALENDAR
