BEGIN:VCALENDAR
VERSION:2.0
PRODID:Imitheme.com 
BEGIN:VEVENT
UID:20260423T1751341791836001
DTSTAMP;TZID=UTC:2026-04-23 17:51:34
DTSTART;TZID=America/Los_Angeles:20260423T175134
DTEND;TZID=America/Los_Angeles:20260423T175134
SUMMARY:“World Conference ARMENIA on the 17th Centenary of proclamation of Christianity in Armenia.”
LOCATION:
DESCRIPTION:Organized by the Martin Luther University of Halle-Wittenberg. Sona Yacoubian founder and chairperson of AGBU Hye Geen was one of the 4 women invited from all over the world to present “The Armenian Women of Today”.   Halle, Germany –  Martin Luther University
URL:https://agbuhyegeen.org/eventer/world-conference-armenia-on-the-17th-centenary-of-proclamation-of-christianity-in-armenia/
END:VEVENT
END:VCALENDAR
