BEGIN:VCALENDAR
VERSION:2.0
PRODID:Imitheme.com 
BEGIN:VEVENT
UID:20260423T1633081611128837
DTSTAMP;TZID=UTC:2026-04-23 16:33:08
DTSTART;TZID=America/Los_Angeles:20260423T163308
DTEND;TZID=America/Los_Angeles:20260423T163308
SUMMARY:Hosting Ruzanna Saryan Avedikian for lunch
LOCATION:
DESCRIPTION:AGBU Hye Geen Committee
URL:https://agbuhyegeen.org/eventer/hosting-ruzanna-saryan-avedikian-for-lunch/
END:VEVENT
END:VCALENDAR
