BEGIN:VCALENDAR
VERSION:2.0
PRODID:Imitheme.com 
BEGIN:VEVENT
UID:20260424T0120361640270770
DTSTAMP;TZID=UTC:2026-04-24 01:20:36
DTSTART;TZID=America/Los_Angeles:20260424T012036
DTEND;TZID=America/Los_Angeles:20260424T012036
SUMMARY:“Domestic Violence Disclosed”
LOCATION:AGBU Alex Manoogian Center
DESCRIPTION:Presenters: Armineh Gourgian, Jack Altounian, Tamar Poladian Esq. and Mariam Gregory
URL:https://agbuhyegeen.org/eventer/domestic-violence-disclosed/
END:VEVENT
END:VCALENDAR
