BEGIN:VCALENDAR
VERSION:2.0
PRODID:Imitheme.com 
BEGIN:VEVENT
UID:20260424T030029191025804
DTSTAMP;TZID=UTC:2026-04-24 03:00:29
DTSTART;TZID=America/Los_Angeles:20260424T030029
DTEND;TZID=America/Los_Angeles:20260424T030029
SUMMARY:“Armenian Women’s Identity”
LOCATION:AGBU Alex Manoogian Center
DESCRIPTION:Guest Speaker: Aline Dedeyan from UN in Geneva, Switzerland. Art Exhibit by Shakeh Boyadjian, Shake Konyalian and Vergine Nalbandian
URL:https://agbuhyegeen.org/eventer/armenian-womens-identity/
END:VEVENT
END:VCALENDAR
