BEGIN:VCALENDAR
VERSION:2.0
PRODID:Imitheme.com 
BEGIN:VEVENT
UID:20260424T0420331627253702
DTSTAMP;TZID=UTC:2026-04-24 04:20:33
DTSTART;TZID=America/Los_Angeles:20260424T042033
DTEND;TZID=America/Los_Angeles:20260424T042033
SUMMARY:Yerevan Conference organized by AGBU Hye Geen, the Ministry of Social Security and the Democratic Forum in Armenia, with more than 40 NGO’s from Armenia and Karabakh
LOCATION:Armenia
DESCRIPTION:Armenia, National Academy of Sciences in Yerevan
URL:https://agbuhyegeen.org/eventer/yerevan-conference-organized-by-agbu-hye-geen-the-ministry-of-social-security-and-the-democratic-forum-in-armenia-with-more-than-40-ngos-from-armenia-and-karabakh/
END:VEVENT
END:VCALENDAR
