BEGIN:VCALENDAR
VERSION:2.0
PRODID:Imitheme.com 
BEGIN:VEVENT
UID:20260424T073400293196253
DTSTAMP;TZID=UTC:2026-04-24 07:34:00
DTSTART;TZID=America/Los_Angeles:20260424T073400
DTEND;TZID=America/Los_Angeles:20260424T073400
SUMMARY:“Evaluating the Input of Leadership Groups”
LOCATION:AGBU Alex Manoogian Center
DESCRIPTION:“The first 10 years of AGBU Hye Geen” Presenters: Anie Kalayjian and Sona Zeitlian & Sona Yacoubian   Pasadena, CA – AGBU Alex Manoogian Center
URL:https://agbuhyegeen.org/eventer/evaluating-the-input-of-leadership-groups/
END:VEVENT
END:VCALENDAR
