BEGIN:VCALENDAR
VERSION:2.0
PRODID:Imitheme.com 
BEGIN:VEVENT
UID:20260421T0122371671599190
DTSTAMP;TZID=UTC:2026-04-21 01:22:37
DTSTART;TZID=America/Los_Angeles:20260421T012237
DTEND;TZID=America/Los_Angeles:20260421T012237
SUMMARY:"Orphans and Children of Divorce"
LOCATION:2495 E Mountain St\, Pasadena\, CA 91104
DESCRIPTION:Presenters: Sona Zeitlian, Emma Oshagan Ph.D. and Inga Simonian Ph.D.
URL:https://agbuhyegeen.org/eventer/orphans-and-children-of-divorce/
END:VEVENT
END:VCALENDAR
