BEGIN:VCALENDAR
VERSION:2.0
PRODID:Imitheme.com 
BEGIN:VEVENT
UID:20260421T0114301942352515
DTSTAMP;TZID=UTC:2026-04-21 01:14:30
DTSTART;TZID=America/Los_Angeles:20260421T011430
DTEND;TZID=America/Los_Angeles:20260421T011430
SUMMARY:Meeting with representatives of the Pregnant women Centers in Armenia
LOCATION:Armenia
DESCRIPTION:Participants: Sona Yacoubian, Anahid Karahagopian, Hourig Der Sahakian, Arshagouhi Tavitian, Talin Yacoubian Esq. and Terese Hayrabedian
URL:https://agbuhyegeen.org/eventer/meeting-with-representatives-of-the-pregnant-women-centers-in-armenia/
END:VEVENT
END:VCALENDAR
